BEGIN:VCALENDAR
VERSION:2.0
BEGIN:VEVENT
UID:333009c93af9648ec870d78f0f93a21e@https://www.schloss-burgk-freital.de
DTSTAMP:20260420T070721Z
DTSTART:20260818T190000
DTEND:20260818T203000
SUMMARY:Das NEUE MUSecco
DESCRIPTION:Kirchgemeinde und der Städtischen Sammlungen begehen gemeinsam den 115. Jahrestag der Kirchweihe und gedenken Otto Gussmann anlässlich seines 100. Todestages mit einem von Musik begleiteten Vortrag über den Künstler.
END:VEVENT
END:VCALENDAR
