BEGIN:VCALENDAR
VERSION:2.0
BEGIN:VEVENT
UID:06284224a726677c72b69257de9b7217@https://www.schloss-burgk-freital.de
DTSTAMP:20260420T070834Z
DTSTART:20260613T110000
DTEND:20260613T140000
SUMMARY:Ausgezeichnet! – Zeichnen mit Chris Löhmann
DESCRIPTION:Workshop für Kinder mit dem Grafiker und StreetArt -Künstler Chris Löhmann
END:VEVENT
END:VCALENDAR
