BEGIN:VCALENDAR
VERSION:2.0
BEGIN:VEVENT
UID:5415fa0d21ccb026db96fc09ae5138f1@https://www.schloss-burgk-freital.de
DTSTAMP:20260420T071003Z
DTSTART:20260603T190000
DTEND:20260603T203000
SUMMARY:Alles aus Liebe – Tanz in der Kunstsammlung
DESCRIPTION:Eine Veranstaltung im Rahmen der Kultur(All)Tage mit Anna Ameno (Tanz), Andrea Dorschner (E-Harfe) und Matthias Baumgart (Saxophon).
END:VEVENT
END:VCALENDAR
