BEGIN:VCALENDAR
VERSION:2.0
BEGIN:VEVENT
UID:3248dd61ccfa67b02fc16289f5b060db@https://www.schloss-burgk-freital.de
DTSTAMP:20260422T142159Z
DTSTART:20260601T150000
DTEND:20260601T150000
SUMMARY:Familien singen zum Kindertag
DESCRIPTION:Traditionelle Volkslieder - gemeinsames Singen im Freien
END:VEVENT
END:VCALENDAR
